BEGIN:VCALENDAR
VERSION:2.0
PRODID:-//ChamberMaster//Event Calendar 2.0//EN
METHOD:PUBLISH
X-PUBLISHED-TTL:P3D
REFRESH-INTERVAL:P3D
CALSCALE:GREGORIAN
BEGIN:VEVENT
DTSTART:20141003T220000Z
DTEND:20141004T000000Z
X-MICROSOFT-CDO-ALLDAYEVENT:FALSE
SUMMARY:1st Friday BAH at Equitable Bank
DESCRIPTION:
X-ALT-DESC;FMTTYPE=text/html:
LOCATION:
UID:e.590.5433
SEQUENCE:3
DTSTAMP:20260421T000130Z
URL:https://www.nparea.com/events/details/1st-friday-bah-at-equitable-bank-10-03-2014-5433
END:VEVENT

END:VCALENDAR
