BEGIN:VCALENDAR
VERSION:2.0
PRODID:-//ChamberMaster//Event Calendar 2.0//EN
METHOD:PUBLISH
X-PUBLISHED-TTL:P3D
REFRESH-INTERVAL:P3D
CALSCALE:GREGORIAN
BEGIN:VEVENT
DTSTART:20140404T220000Z
DTEND:20140405T000000Z
X-MICROSOFT-CDO-ALLDAYEVENT:FALSE
SUMMARY:1st Friday BAH at RDAP
DESCRIPTION:
X-ALT-DESC;FMTTYPE=text/html:
LOCATION:
UID:e.590.5424
SEQUENCE:3
DTSTAMP:20260421T115312Z
URL:https://www.nparea.com/events/details/1st-friday-bah-at-rdap-04-04-2014-5424
END:VEVENT

END:VCALENDAR
