BEGIN:VCALENDAR
VERSION:2.0
PRODID:-//ChamberMaster//Event Calendar 2.0//EN
METHOD:PUBLISH
X-PUBLISHED-TTL:P3D
REFRESH-INTERVAL:P3D
CALSCALE:GREGORIAN
BEGIN:VEVENT
DTSTART:20121005T220000Z
DTEND:20121006T000000Z
X-MICROSOFT-CDO-ALLDAYEVENT:FALSE
SUMMARY:1st Friday BAH - Equitable Bank
DESCRIPTION:First Friday Business After Hours at Equitable Bank
X-ALT-DESC;FMTTYPE=text/html:First Friday Business After Hours at Equitable Bank
LOCATION:920 South Jeffers St
UID:e.590.4110
SEQUENCE:3
DTSTAMP:20260422T165444Z
URL:https://www.nparea.com/events/details/1st-friday-bah-equitable-bank-10-05-2012-4110
END:VEVENT

END:VCALENDAR
