BEGIN:VCALENDAR
VERSION:2.0
PRODID:-//ChamberMaster//Event Calendar 2.0//EN
METHOD:PUBLISH
X-PUBLISHED-TTL:P3D
REFRESH-INTERVAL:P3D
CALSCALE:GREGORIAN
BEGIN:VEVENT
DTSTART:20131004T220000Z
DTEND:20131005T000000Z
X-MICROSOFT-CDO-ALLDAYEVENT:FALSE
SUMMARY:1st Friday BAH sponsored by Centennial Park at Sculley Shooters
DESCRIPTION:First Friday Business After Hours\n\nCentennial Park & Travel Professionals\n\n5pm to 7pm
X-ALT-DESC;FMTTYPE=text/html:First Friday Business After Hours<br />\nCentennial Park &amp\; Travel Professionals<br />\n5pm to 7pm<br />\n
LOCATION:At Sculley Shooters!
UID:e.590.5119
SEQUENCE:3
DTSTAMP:20260421T211602Z
URL:https://www.nparea.com/events/details/1st-friday-bah-sponsored-by-centennial-park-at-sculley-shooters-10-04-2013-5119
END:VEVENT

END:VCALENDAR
