BEGIN:VCALENDAR
VERSION:2.0
PRODID:-//ChamberMaster//Event Calendar 2.0//EN
METHOD:PUBLISH
X-PUBLISHED-TTL:P3D
REFRESH-INTERVAL:P3D
CALSCALE:GREGORIAN
BEGIN:VEVENT
DTSTART:20121011T120000Z
DTEND:20121011T130000Z
X-MICROSOFT-CDO-ALLDAYEVENT:FALSE
SUMMARY:2012 State Legislative Breakfast
DESCRIPTION:2012 State Legislative Forum Breakfast
X-ALT-DESC;FMTTYPE=text/html:2012 State Legislative Forum Breakfast
LOCATION:Holiday Inn Express
UID:e.590.4260
SEQUENCE:3
DTSTAMP:20260422T165015Z
URL:https://www.nparea.com/events/details/2012-state-legislative-breakfast-10-11-2012-4260
END:VEVENT

END:VCALENDAR
