BEGIN:VCALENDAR
VERSION:2.0
PRODID:-//ChamberMaster//Event Calendar 2.0//EN
METHOD:PUBLISH
X-PUBLISHED-TTL:P3D
REFRESH-INTERVAL:P3D
CALSCALE:GREGORIAN
BEGIN:VEVENT
DTSTART:20131105T000000Z
DTEND:20131105T030000Z
X-MICROSOFT-CDO-ALLDAYEVENT:FALSE
SUMMARY:2013 Farmer Rancher Banquet
DESCRIPTION:50th Annual Farmer Rancher Appreciation Banquet\n\nGuest Speaker: Craig Larson
X-ALT-DESC;FMTTYPE=text/html:50th Annual Farmer Rancher Appreciation Banquet<br />\nGuest Speaker: Craig Larson
LOCATION:Quality Inn & Suites 2102 South Jeffers Street North Platte\, NE 69101
UID:e.590.5290
SEQUENCE:3
DTSTAMP:20260421T191901Z
URL:https://www.nparea.com/events/details/2013-farmer-rancher-banquet-11-04-2013-5290
END:VEVENT

END:VCALENDAR
