BEGIN:VCALENDAR
VERSION:2.0
PRODID:-//ChamberMaster//Event Calendar 2.0//EN
METHOD:PUBLISH
X-PUBLISHED-TTL:P3D
REFRESH-INTERVAL:P3D
CALSCALE:GREGORIAN
BEGIN:VEVENT
DTSTART:20130716T133000Z
DTEND:20130716T170000Z
X-MICROSOFT-CDO-ALLDAYEVENT:FALSE
SUMMARY:2013 Seminar (Glenn Shepard)
DESCRIPTION:Glenn Shepard Seminar
X-ALT-DESC;FMTTYPE=text/html:Glenn Shepard Seminar
LOCATION:North Platte Community College\, South Campus 601 West State Farm Road North Platte\, NE 69101
UID:e.590.5131
SEQUENCE:3
DTSTAMP:20260422T020511Z
URL:https://www.nparea.com/events/details/2013-seminar-glenn-shepard-07-16-2013-5131
END:VEVENT

END:VCALENDAR
