BEGIN:VCALENDAR
VERSION:2.0
PRODID:-//ChamberMaster//Event Calendar 2.0//EN
METHOD:PUBLISH
X-PUBLISHED-TTL:P3D
REFRESH-INTERVAL:P3D
CALSCALE:GREGORIAN
BEGIN:VEVENT
DTSTART:20130708T163000Z
DTEND:20130708T180000Z
X-MICROSOFT-CDO-ALLDAYEVENT:FALSE
SUMMARY:2013 State of the District Luncheon
DESCRIPTION:The North Platte Area Chamber & Development Corp. will host a State of the District Luncheon to hear State Senator Tom Hansen give a legislative recap of the accomplishments of the 103rd session.
X-ALT-DESC;FMTTYPE=text/html:The North Platte Area Chamber &amp\; Development Corp. will host a State of the District Luncheon to hear State Senator Tom Hansen give a legislative recap of the accomplishments of the 103rd&nbsp\;session.
LOCATION:The luncheon will be catered by Lincoln Highway Diner and held at their airport location in the Tiffany Conference Room (next to the restaurant).
UID:e.590.5260
SEQUENCE:3
DTSTAMP:20260422T024250Z
URL:https://www.nparea.com/events/details/2013-state-of-the-district-luncheon-07-08-2013-5260
END:VEVENT

END:VCALENDAR
