BEGIN:VCALENDAR
VERSION:2.0
PRODID:-//ChamberMaster//Event Calendar 2.0//EN
METHOD:PUBLISH
X-PUBLISHED-TTL:P3D
REFRESH-INTERVAL:P3D
CALSCALE:GREGORIAN
BEGIN:VEVENT
DTSTART:20131119T230000Z
DTEND:20131120T000000Z
X-MICROSOFT-CDO-ALLDAYEVENT:FALSE
SUMMARY:Adam Bank & Trust New Location Ribbon Cutting
DESCRIPTION:
X-ALT-DESC;FMTTYPE=text/html:
LOCATION:3221 S Jeffers St
UID:e.590.5726
SEQUENCE:3
DTSTAMP:20260421T192318Z
URL:https://www.nparea.com/events/details/adam-bank-trust-new-location-ribbon-cutting-11-19-2013-5726
END:VEVENT

END:VCALENDAR
