BEGIN:VCALENDAR
VERSION:2.0
PRODID:-//ChamberMaster//Event Calendar 2.0//EN
METHOD:PUBLISH
X-PUBLISHED-TTL:P3D
REFRESH-INTERVAL:P3D
CALSCALE:GREGORIAN
BEGIN:VEVENT
DTSTART:20150528T170000Z
DTEND:20150528T180000Z
X-MICROSOFT-CDO-ALLDAYEVENT:FALSE
SUMMARY:Agri Business Committee Meeting 3rd Floor Nebraskaland Bank "Husker Room"
DESCRIPTION:
X-ALT-DESC;FMTTYPE=text/html:
LOCATION:
UID:e.590.231
SEQUENCE:3
DTSTAMP:20260420T113639Z
URL:https://www.nparea.com/events/details/agri-business-committee-meeting-3rd-floor-nebraskaland-bank-husker-room-05-28-2015-231
END:VEVENT

END:VCALENDAR
