BEGIN:VCALENDAR
VERSION:2.0
PRODID:-//ChamberMaster//Event Calendar 2.0//EN
METHOD:PUBLISH
X-PUBLISHED-TTL:P3D
REFRESH-INTERVAL:P3D
CALSCALE:GREGORIAN
BEGIN:VEVENT
DTSTART:20160112T000000Z
DTEND:20160112T040000Z
X-MICROSOFT-CDO-ALLDAYEVENT:FALSE
SUMMARY:Ambassador General Membership Meeting
DESCRIPTION:Ambassador General Membership Meeting\n\nMonday\, January 11\, 2015\n\nWild Bill's Wings & Bowling\n\n6pm
X-ALT-DESC;FMTTYPE=text/html:Ambassador General Membership Meeting<br />\nMonday\, January 11\, 2015<br />\nWild Bill&#39\;s Wings &amp\; Bowling<br />\n6pm
LOCATION:
UID:e.590.7830
SEQUENCE:3
DTSTAMP:20260419T210738Z
URL:https://www.nparea.com/events/details/ambassador-general-membership-meeting-01-11-2016-7830
END:VEVENT

END:VCALENDAR
