BEGIN:VCALENDAR
VERSION:2.0
PRODID:-//ChamberMaster//Event Calendar 2.0//EN
METHOD:PUBLISH
X-PUBLISHED-TTL:P3D
REFRESH-INTERVAL:P3D
CALSCALE:GREGORIAN
BEGIN:VEVENT
DTSTART:20150513T010000Z
DTEND:20150513T020000Z
X-MICROSOFT-CDO-ALLDAYEVENT:FALSE
SUMMARY:Ambassador General Membership Meeting
DESCRIPTION:
X-ALT-DESC;FMTTYPE=text/html:
LOCATION:
UID:e.590.766
SEQUENCE:3
DTSTAMP:20260420T130524Z
URL:https://www.nparea.com/events/details/ambassador-general-membership-meeting-05-12-2015-766
END:VEVENT

END:VCALENDAR
