BEGIN:VCALENDAR
VERSION:2.0
PRODID:-//ChamberMaster//Event Calendar 2.0//EN
METHOD:PUBLISH
X-PUBLISHED-TTL:P3D
REFRESH-INTERVAL:P3D
CALSCALE:GREGORIAN
BEGIN:VEVENT
DTSTART;VALUE=DATE:20150313
DTEND;VALUE=DATE:20150314
TRANSP:TRANSPARENT
X-MICROSOFT-CDO-ALLDAYEVENT:TRUE
SUMMARY:Ambassador Patron Party
DESCRIPTION:Ambassador Patron Party\n\nQuality Inn & Suites\n\nFriday\, March 13\, 2015\n\n6pm social\n\n7pm dinner and program
X-ALT-DESC;FMTTYPE=text/html:Ambassador Patron Party<br />\nQuality Inn &amp\; Suites<br />\nFriday\, March 13\, 2015<br />\n6pm social<br />\n7pm dinner and program
LOCATION:
UID:e.590.6133
SEQUENCE:3
DTSTAMP:20260420T144141Z
URL:https://www.nparea.com/events/details/ambassador-patron-party-03-13-2015-6133
END:VEVENT

END:VCALENDAR
