BEGIN:VCALENDAR
VERSION:2.0
PRODID:-//ChamberMaster//Event Calendar 2.0//EN
METHOD:PUBLISH
X-PUBLISHED-TTL:P3D
REFRESH-INTERVAL:P3D
CALSCALE:GREGORIAN
BEGIN:VEVENT
DTSTART:20130118T230000Z
DTEND:20130119T010000Z
X-MICROSOFT-CDO-ALLDAYEVENT:FALSE
SUMMARY:BAH - Cedar Bowl / Touchdown Club
DESCRIPTION:Business After Hours sponsored by Cedar Bowl / Touchdown Club
X-ALT-DESC;FMTTYPE=text/html:Business After Hours sponsored by Cedar Bowl / Touchdown Club
LOCATION:1100 South Jeffers Street
UID:e.590.4118
SEQUENCE:3
DTSTAMP:20260422T113824Z
URL:https://www.nparea.com/events/details/bah-cedar-bowl-touchdown-club-01-18-2013-4118
END:VEVENT

END:VCALENDAR
