BEGIN:VCALENDAR
VERSION:2.0
PRODID:-//ChamberMaster//Event Calendar 2.0//EN
METHOD:PUBLISH
X-PUBLISHED-TTL:P3D
REFRESH-INTERVAL:P3D
CALSCALE:GREGORIAN
BEGIN:VEVENT
DTSTART:20130419T220000Z
DTEND:20130420T000000Z
X-MICROSOFT-CDO-ALLDAYEVENT:FALSE
SUMMARY:BAH Iron Eagle Golf Club
DESCRIPTION:Business After Hours hosted by Iron Eagle Golf Club
X-ALT-DESC;FMTTYPE=text/html:Business After Hours hosted by Iron Eagle Golf Club
LOCATION:Iron Eagle Golf Course Club House located at 2401 Halligan Drive
UID:e.590.4121
SEQUENCE:3
DTSTAMP:20260422T064513Z
URL:https://www.nparea.com/events/details/bah-iron-eagle-golf-club-04-19-2013-4121
END:VEVENT

END:VCALENDAR
