BEGIN:VCALENDAR
VERSION:2.0
PRODID:-//ChamberMaster//Event Calendar 2.0//EN
METHOD:PUBLISH
X-PUBLISHED-TTL:P3D
REFRESH-INTERVAL:P3D
CALSCALE:GREGORIAN
BEGIN:VEVENT
DTSTART:20130315T220000Z
DTEND:20130316T000000Z
X-MICROSOFT-CDO-ALLDAYEVENT:FALSE
SUMMARY:BAH - Nebraskaland Days\, Eagle Radio/ Eagles Club
DESCRIPTION:Business After Hours co hosted by Nebraskaland Days\, Eagles Club and Eagle Radio
X-ALT-DESC;FMTTYPE=text/html:Business After Hours co hosted by Nebraskaland Days\, Eagles Club and Eagle Radio
LOCATION:Eagles Club located at 620 N Chestnut
UID:e.590.4120
SEQUENCE:3
DTSTAMP:20260422T083749Z
URL:https://www.nparea.com/events/details/bah-nebraskaland-days-eagle-radio-eagles-club-03-15-2013-4120
END:VEVENT

END:VCALENDAR
