BEGIN:VCALENDAR
VERSION:2.0
PRODID:-//ChamberMaster//Event Calendar 2.0//EN
METHOD:PUBLISH
X-PUBLISHED-TTL:P3D
REFRESH-INTERVAL:P3D
CALSCALE:GREGORIAN
BEGIN:VEVENT
DTSTART:20130719T220000Z
DTEND:20130720T000000Z
X-MICROSOFT-CDO-ALLDAYEVENT:FALSE
SUMMARY:BAH - Nebraskaland National Bank
DESCRIPTION:Business After Hours hosted by Nebraskaland National Bank\n\nheld at the Depot in the RailBar
X-ALT-DESC;FMTTYPE=text/html:Business After Hours hosted by Nebraskaland National Bank<br />\nheld at the Depot in the RailBar
LOCATION:To be announced
UID:e.590.4123
SEQUENCE:3
DTSTAMP:20260422T021231Z
URL:https://www.nparea.com/events/details/bah-nebraskaland-national-bank-07-19-2013-4123
END:VEVENT

END:VCALENDAR
