BEGIN:VCALENDAR
VERSION:2.0
PRODID:-//ChamberMaster//Event Calendar 2.0//EN
METHOD:PUBLISH
X-PUBLISHED-TTL:P3D
REFRESH-INTERVAL:P3D
CALSCALE:GREGORIAN
BEGIN:VEVENT
DTSTART:20130517T220000Z
DTEND:20130518T000000Z
X-MICROSOFT-CDO-ALLDAYEVENT:FALSE
SUMMARY:BAH - Steele's Roofing & Construction at Lake Maloney Golf Clubhouse
DESCRIPTION:Business After Hours hosted by Steele's Roofing and Construction
X-ALT-DESC;FMTTYPE=text/html:Business After Hours hosted by Steele&#39\;s Roofing and Construction
LOCATION:
UID:e.590.4122
SEQUENCE:3
DTSTAMP:20260422T053119Z
URL:https://www.nparea.com/events/details/bah-steele-s-roofing-construction-at-lake-maloney-golf-clubhouse-05-17-2013-4122
END:VEVENT

END:VCALENDAR
