BEGIN:VCALENDAR
VERSION:2.0
PRODID:-//ChamberMaster//Event Calendar 2.0//EN
METHOD:PUBLISH
X-PUBLISHED-TTL:P3D
REFRESH-INTERVAL:P3D
CALSCALE:GREGORIAN
BEGIN:VEVENT
DTSTART;VALUE=DATE:20160203
DTEND;VALUE=DATE:20160205
TRANSP:TRANSPARENT
X-MICROSOFT-CDO-ALLDAYEVENT:TRUE
SUMMARY:Buffalo Bill Farm & Ranch Expo
DESCRIPTION:Wednesday 9-6pm and Thursday 9-4pm\n\nBull Alley is Wednesday ONLY 9:30-3pm\n\n\nThe Annual Farm & Ranch Expo is one of the biggest events of the year put on by the Agri Business Committee. \n\nThe next Expo is scheduled for February 3 & 4th of 2016.\n\nFor more information call Kathy at 308-532-4966 or e-mail her at kathy@nparea.com.
X-ALT-DESC;FMTTYPE=text/html:<div>Wednesday 9-6pm and Thursday 9-4pm</div>\n\n<div>Bull Alley is Wednesday ONLY 9:30-3pm</div>\n<br />\n<span style="font-family: Tahoma\, Arial\, Verdana\, sans-serif\; font-size: 12px\; line-height: 18px\; background-color: rgb(255\, 255\, 255)\;">The Annual Farm &amp\; Ranch Expo is one of the biggest events of the year put on by the Agri Business Committee.&nbsp\;</span><br style="font-family: Tahoma\, Arial\, Verdana\, sans-serif\; font-size: 12px\; line-height: 18px\; background-color: rgb(255\, 255\, 255)\;" />\n<span style="font-family: Tahoma\, Arial\, Verdana\, sans-serif\; font-size: 12px\; line-height: 18px\; background-color: rgb(255\, 255\, 255)\;">The next Expo is scheduled for February 3 &amp\; 4th of 2016.</span><br style="font-family: Tahoma\, Arial\, Verdana\, sans-serif\; font-size: 12px\; line-height: 18px\; background-color: rgb(255\, 255\, 255)\;" />\n<span style="font-family: Tahoma\, Arial\, Verdana\, sans-serif\; font-size: 12px\; line-height: 18px\; background-color: rgb(255\, 255\, 255)\;">For more information call Kathy at 308-532-4966 or e-mail her at&nbsp\;</span><a href="mailto:kathy@nparea.com" style="color: rgb(97\, 118\, 229)\; text-decoration: none\; margin: 0px\; padding: 0px\; border: 0px\; outline: 0px\; font-family: Tahoma\, Arial\, Verdana\, sans-serif\; font-size: 12px\; line-height: 18px\; background-color: rgb(255\, 255\, 255)\;" target="_blank">kathy@nparea.com</a><span style="font-family: Tahoma\, Arial\, Verdana\, sans-serif\; font-size: 12px\; line-height: 18px\; background-color: rgb(255\, 255\, 255)\;">.</span>
LOCATION:D & N Event Center 501 E Walker Rd North Platte\, NE 69101
UID:e.590.7376
SEQUENCE:3
DTSTAMP:20260419T170513Z
URL:https://www.nparea.com/events/details/buffalo-bill-farm-ranch-expo-02-03-2016-7376
END:VEVENT

END:VCALENDAR
