BEGIN:VCALENDAR
VERSION:2.0
PRODID:-//ChamberMaster//Event Calendar 2.0//EN
METHOD:PUBLISH
X-PUBLISHED-TTL:P3D
REFRESH-INTERVAL:P3D
CALSCALE:GREGORIAN
BEGIN:VEVENT
DTSTART:20150205T150000Z
DTEND:20150205T220000Z
X-MICROSOFT-CDO-ALLDAYEVENT:FALSE
SUMMARY:Buffalo Bill Farm & Ranch Expo
DESCRIPTION:2015 Buffalo Bil Farm & Ranch Expo\n\n8am - 4pm - Wednesday\, February 5\, 2015\n\nD & N Event Center - S Hwy 83 & Walker Rd
X-ALT-DESC;FMTTYPE=text/html:2015 Buffalo Bil Farm &amp\; Ranch Expo<br />\n8am - 4pm - Wednesday\, February 5\, 2015<br />\nD &amp\; N Event Center - S Hwy 83 &amp\; Walker Rd
LOCATION:
UID:e.590.5918
SEQUENCE:3
DTSTAMP:20260420T163144Z
URL:https://www.nparea.com/events/details/buffalo-bill-farm-ranch-expo-02-05-2015-5918
END:VEVENT

END:VCALENDAR
