BEGIN:VCALENDAR
VERSION:2.0
PRODID:-//ChamberMaster//Event Calendar 2.0//EN
METHOD:PUBLISH
X-PUBLISHED-TTL:P3D
REFRESH-INTERVAL:P3D
CALSCALE:GREGORIAN
BEGIN:VEVENT
DTSTART:20141121T230000Z
DTEND:20141122T010000Z
X-MICROSOFT-CDO-ALLDAYEVENT:FALSE
SUMMARY:Business after Hours at Great Western Bank
DESCRIPTION:
X-ALT-DESC;FMTTYPE=text/html:
LOCATION:
UID:e.590.5435
SEQUENCE:3
DTSTAMP:20260421T002220Z
URL:https://www.nparea.com/events/details/business-after-hours-at-great-western-bank-11-21-2014-5435
END:VEVENT

END:VCALENDAR
