BEGIN:VCALENDAR
VERSION:2.0
PRODID:-//ChamberMaster//Event Calendar 2.0//EN
METHOD:PUBLISH
X-PUBLISHED-TTL:P3D
REFRESH-INTERVAL:P3D
CALSCALE:GREGORIAN
BEGIN:VEVENT
DTSTART:20120817T220000Z
DTEND:20120818T000000Z
X-MICROSOFT-CDO-ALLDAYEVENT:FALSE
SUMMARY:Business After Hours at Lakehouse Bar & Grill
DESCRIPTION:Sponsored by Lakehouse and First National Bank
X-ALT-DESC;FMTTYPE=text/html:Sponsored by Lakehouse and First National Bank
LOCATION:
UID:e.590.3542
SEQUENCE:3
DTSTAMP:20260422T224423Z
URL:https://www.nparea.com/events/details/business-after-hours-at-lakehouse-bar-grill-08-17-2012-3542
END:VEVENT

END:VCALENDAR
