BEGIN:VCALENDAR
VERSION:2.0
PRODID:-//ChamberMaster//Event Calendar 2.0//EN
METHOD:PUBLISH
X-PUBLISHED-TTL:P3D
REFRESH-INTERVAL:P3D
CALSCALE:GREGORIAN
BEGIN:VEVENT
DTSTART:20150821T220000Z
DTEND:20150822T000000Z
X-MICROSOFT-CDO-ALLDAYEVENT:FALSE
SUMMARY:Business After Hours Brouillette Law Office/ Platte Bar
DESCRIPTION:Business After Hours at the Platte Bar\n\nHosted by Brouillette Law Office/ Platte Bar\n\nAugust 21 2015\n\n5:00pm-7:00pm
X-ALT-DESC;FMTTYPE=text/html:Business After Hours at the Platte Bar<br />\nHosted by Brouillette Law Office/ Platte Bar<br />\nAugust 21 2015<br />\n5:00pm-7:00pm<br />\n&nbsp\;
LOCATION:Platte Bar Inc. 119 W 6th St North Platte\, NE 69101 (308) 532-6300
UID:e.590.7191
SEQUENCE:3
DTSTAMP:20260420T053616Z
URL:https://www.nparea.com/events/details/business-after-hours-brouillette-law-office-platte-bar-08-21-2015-7191
END:VEVENT

END:VCALENDAR
