BEGIN:VCALENDAR
VERSION:2.0
PRODID:-//ChamberMaster//Event Calendar 2.0//EN
METHOD:PUBLISH
X-PUBLISHED-TTL:P3D
REFRESH-INTERVAL:P3D
CALSCALE:GREGORIAN
BEGIN:VEVENT
DTSTART:20160318T220000Z
DTEND:20160319T000000Z
X-MICROSOFT-CDO-ALLDAYEVENT:FALSE
SUMMARY:Business After Hours - Eagles Club/Eagle Radio/River Valley Gun Gallery
DESCRIPTION:Business After Hours\n\n Eagles/Eagle Radio/River Valley Gun Gallery\n\n5:00-7:00pmSave
X-ALT-DESC;FMTTYPE=text/html:Business After Hours<br />\n&nbsp\;Eagles/Eagle Radio/River Valley Gun Gallery<br />\n5:00-7:00pm<a>Save</a><br />\n&nbsp\;
LOCATION:The Eagles Club 620 N Chestnut St North Platte\, NE 69101 (308) 532-9458
UID:e.590.7196
SEQUENCE:3
DTSTAMP:20260419T173632Z
URL:https://www.nparea.com/events/details/business-after-hours-eagles-club-eagle-radio-river-valley-gun-gallery-03-18-2016-7196
END:VEVENT

END:VCALENDAR
