BEGIN:VCALENDAR
VERSION:2.0
PRODID:-//ChamberMaster//Event Calendar 2.0//EN
METHOD:PUBLISH
X-PUBLISHED-TTL:P3D
REFRESH-INTERVAL:P3D
CALSCALE:GREGORIAN
BEGIN:VEVENT
DTSTART:20151120T230000Z
DTEND:20151121T010000Z
X-MICROSOFT-CDO-ALLDAYEVENT:FALSE
SUMMARY:Business After Hours Great Western Bank
DESCRIPTION:Business After Hours\n\nFriday November 20\n\nGreat Western Bank\n\n5:00-7:00pm
X-ALT-DESC;FMTTYPE=text/html:Business After Hours<br />\nFriday November 20<br />\nGreat Western Bank<br />\n5:00-7:00pm
LOCATION:Great Western Bank 111 S Dewey St North Platte\, NE 69101 (308) 532-2300
UID:e.590.7193
SEQUENCE:3
DTSTAMP:20260420T011758Z
URL:https://www.nparea.com/events/details/business-after-hours-great-western-bank-11-20-2015-7193
END:VEVENT

END:VCALENDAR
