BEGIN:VCALENDAR
VERSION:2.0
PRODID:-//ChamberMaster//Event Calendar 2.0//EN
METHOD:PUBLISH
X-PUBLISHED-TTL:P3D
REFRESH-INTERVAL:P3D
CALSCALE:GREGORIAN
BEGIN:VEVENT
DTSTART:20140815T220000Z
DTEND:20140816T000000Z
X-MICROSOFT-CDO-ALLDAYEVENT:FALSE
SUMMARY:Business after Hours Sponsored by Brouillette and Platte Bar at the Platte Bar
DESCRIPTION:Business After Hours\n\nSponsored by Brouillette Law Office and The Platte Bar\n\nLocation:   Platte Bar\n\nFriday\, August 15\, 2014   5-7pm
X-ALT-DESC;FMTTYPE=text/html:Business After Hours<br />\nSponsored by Brouillette Law Office and The Platte Bar<br />\nLocation:&nbsp\;&nbsp\; Platte Bar<br />\nFriday\, August 15\, 2014&nbsp\;&nbsp\; 5-7pm
LOCATION:
UID:e.590.5431
SEQUENCE:3
DTSTAMP:20260421T040026Z
URL:https://www.nparea.com/events/details/business-after-hours-sponsored-by-brouillette-and-platte-bar-at-the-platte-bar-08-15-2014-5431
END:VEVENT

END:VCALENDAR
