BEGIN:VCALENDAR
VERSION:2.0
PRODID:-//ChamberMaster//Event Calendar 2.0//EN
METHOD:PUBLISH
X-PUBLISHED-TTL:P3D
REFRESH-INTERVAL:P3D
CALSCALE:GREGORIAN
BEGIN:VEVENT
DTSTART:20150515T220000Z
DTEND:20150516T000000Z
X-MICROSOFT-CDO-ALLDAYEVENT:FALSE
SUMMARY:Business After Hours Steele's Roofing & Construction
DESCRIPTION:Business After Hours\n\nMay 15\n\n5:00-7:00pm\n\nSteele's Roofing & Construction Inc\n\n1721 E 6th St\n\nNorth Platte\, NE 69101\n\n(308) 532-0575
X-ALT-DESC;FMTTYPE=text/html:Business After Hours<br />\nMay 15<br />\n5:00-7:00pm<br />\nSteele&#39\;s Roofing &amp\; Construction Inc<br />\n1721 E 6th St<br />\nNorth Platte\, NE 69101<br />\n(308) 532-0575
LOCATION:
UID:e.590.7189
SEQUENCE:3
DTSTAMP:20260420T124900Z
URL:https://www.nparea.com/events/details/business-after-hours-steele-s-roofing-construction-05-15-2015-7189
END:VEVENT

END:VCALENDAR
