BEGIN:VCALENDAR
VERSION:2.0
PRODID:-//ChamberMaster//Event Calendar 2.0//EN
METHOD:PUBLISH
X-PUBLISHED-TTL:P3D
REFRESH-INTERVAL:P3D
CALSCALE:GREGORIAN
BEGIN:VEVENT
DTSTART:20131018T220000Z
DTEND:20131019T000000Z
X-MICROSOFT-CDO-ALLDAYEVENT:FALSE
SUMMARY:Business after Hours - Wells Fargo & Quality Inn at Sandhills Convention Center
DESCRIPTION:Business After Hours co-hosted by Quality Inn & Suites and Wells Fargo Bank
X-ALT-DESC;FMTTYPE=text/html:Business After Hours co-hosted by Quality Inn &amp\; Suites and Wells Fargo Bank
LOCATION:Quality Inn & Suites\, North Platte River Room
UID:e.590.4127
SEQUENCE:3
DTSTAMP:20260421T225603Z
URL:https://www.nparea.com/events/details/business-after-hours-wells-fargo-quality-inn-at-sandhills-convention-center-10-18-2013-4127
END:VEVENT

END:VCALENDAR
