BEGIN:VCALENDAR
VERSION:2.0
PRODID:-//ChamberMaster//Event Calendar 2.0//EN
METHOD:PUBLISH
X-PUBLISHED-TTL:P3D
REFRESH-INTERVAL:P3D
CALSCALE:GREGORIAN
BEGIN:VEVENT
DTSTART:20151106T230000Z
DTEND:20151107T010000Z
X-MICROSOFT-CDO-ALLDAYEVENT:FALSE
SUMMARY:Business After Hours - Western NE Bank/Steele Construction
DESCRIPTION:
X-ALT-DESC;FMTTYPE=text/html:
LOCATION:Western Nebraska Bank
UID:e.590.6755
SEQUENCE:3
DTSTAMP:20260420T012012Z
URL:https://www.nparea.com/events/details/business-after-hours-western-ne-bank-steele-construction-11-06-2015-6755
END:VEVENT

END:VCALENDAR
