BEGIN:VCALENDAR
VERSION:2.0
PRODID:-//ChamberMaster//Event Calendar 2.0//EN
METHOD:PUBLISH
X-PUBLISHED-TTL:P3D
REFRESH-INTERVAL:P3D
CALSCALE:GREGORIAN
BEGIN:VEVENT
DTSTART:20160115T230000Z
DTEND:20160116T010000Z
X-MICROSOFT-CDO-ALLDAYEVENT:FALSE
SUMMARY:Business After Hours Wild Bills Wings & Bowling
DESCRIPTION:Business After Hours\n\nWild Bills Wings & Bowling\n\n5:00-7:00\n1100 S Jeffers St\n\nNorth Platte\, NE 69101\n\n(308) 532-5720
X-ALT-DESC;FMTTYPE=text/html:Business After Hours<br />\nWild Bills Wings &amp\; Bowling<br />\n5:00-7:00\n<div class="mn-member-address" itemprop="streetAddress" style="background: rgb(255\, 255\, 255)\; margin: 0px\; padding: 0px\; border-radius: 0px\; border: currentColor\; border-image: 100% 1 0\; left: auto\; top: auto\; width: auto\; height: auto\; right: auto\; bottom: auto\; color: rgb(68\, 68\, 68)\; line-height: 18.19px\; overflow: visible\; clear: none\; font-family: Tahoma\, Arial\, Verdana\, sans-serif\; font-size: 14px\; vertical-align: baseline\; float: none\; visibility: inherit\; border-collapse: separate\; position: static\; z-index: auto\; table-layout: auto\; direction: inherit\; -ms-word-break: inherit\; -ms-word-wrap: inherit\; -ms-text-overflow: clip\; max-height: none\; max-width: none\; content: normal\; box-sizing: content-box\; empty-cells: show\; font-stretch: inherit\; opacity: 1\; box-shadow: none\; resize: none\; outline-offset: 0px\;">1100 S Jeffers St</div>\n\n<div class="mn-member-cistpost" style="background: rgb(255\, 255\, 255)\; margin: 0px\; padding: 0px\; border-radius: 0px\; border: currentColor\; border-image: 100% 1 0\; left: auto\; top: auto\; width: auto\; height: auto\; right: auto\; bottom: auto\; color: rgb(68\, 68\, 68)\; line-height: 18.19px\; overflow: visible\; clear: none\; font-family: Tahoma\, Arial\, Verdana\, sans-serif\; font-size: 14px\; vertical-align: baseline\; float: none\; visibility: inherit\; border-collapse: separate\; position: static\; z-index: auto\; table-layout: auto\; direction: inherit\; -ms-word-break: inherit\; -ms-word-wrap: inherit\; -ms-text-overflow: clip\; max-height: none\; max-width: none\; content: normal\; box-sizing: content-box\; empty-cells: show\; font-stretch: inherit\; opacity: 1\; box-shadow: none\; resize: none\; outline-offset: 0px\;"><span itemprop="addressLocality" style="background: none\; font: inherit\; margin: 0px\; padding: 0px\; border-radius: 0px\; border: currentColor\; border-image: 100% 1 0\; left: auto\; top: auto\; width: auto\; height: auto\; text-align: inherit\; right: auto\; bottom: auto\; color: inherit\; text-transform: inherit\; text-indent: inherit\; letter-spacing: inherit\; overflow: visible\; clear: none\; word-spacing: inherit\; vertical-align: baseline\; float: none\; display: inline\; white-space: inherit\; visibility: inherit\; border-collapse: separate\; position: static\; z-index: auto\; table-layout: auto\; direction: inherit\; -ms-word-break: inherit\; -ms-word-wrap: inherit\; -ms-text-overflow: clip\; max-height: none\; max-width: none\; content: normal\; box-sizing: content-box\; empty-cells: show\; font-size-adjust: inherit\; font-stretch: inherit\; opacity: 1\; box-shadow: none\; resize: none\; outline-offset: 0px\;">North Platte</span>\,&nbsp\;<span itemprop="addressRegion" style="background: none\; font: inherit\; margin: 0px\; padding: 0px\; border-radius: 0px\; border: currentColor\; border-image: 100% 1 0\; left: auto\; top: auto\; width: auto\; height: auto\; text-align: inherit\; right: auto\; bottom: auto\; color: inherit\; text-transform: inherit\; text-indent: inherit\; letter-spacing: inherit\; overflow: visible\; clear: none\; word-spacing: inherit\; vertical-align: baseline\; float: none\; display: inline\; white-space: inherit\; visibility: inherit\; border-collapse: separate\; position: static\; z-index: auto\; table-layout: auto\; direction: inherit\; -ms-word-break: inherit\; -ms-word-wrap: inherit\; -ms-text-overflow: clip\; max-height: none\; max-width: none\; content: normal\; box-sizing: content-box\; empty-cells: show\; font-size-adjust: inherit\; font-stretch: inherit\; opacity: 1\; box-shadow: none\; resize: none\; outline-offset: 0px\;">NE&nbsp\;</span><span itemprop="postalCode" style="background: none\; font: inherit\; margin: 0px\; padding: 0px\; border-radius: 0px\; border: currentColor\; border-image: 100% 1 0\; left: auto\; top: auto\; width: auto\; height: auto\; text-align: inherit\; right: auto\; bottom: auto\; color: inherit\; text-transform: inherit\; text-indent: inherit\; letter-spacing: inherit\; overflow: visible\; clear: none\; word-spacing: inherit\; vertical-align: baseline\; float: none\; display: inline\; white-space: inherit\; visibility: inherit\; border-collapse: separate\; position: static\; z-index: auto\; table-layout: auto\; direction: inherit\; -ms-word-break: inherit\; -ms-word-wrap: inherit\; -ms-text-overflow: clip\; max-height: none\; max-width: none\; content: normal\; box-sizing: content-box\; empty-cells: show\; font-size-adjust: inherit\; font-stretch: inherit\; opacity: 1\; box-shadow: none\; resize: none\; outline-offset: 0px\;">69101</span></div>\n\n<div class="mn-member-phone1" itemprop="telephone" style="background: rgb(255\, 255\, 255)\; margin: 0px\; padding: 0px\; border-radius: 0px\; border: currentColor\; border-image: 100% 1 0\; left: auto\; top: auto\; width: auto\; height: auto\; right: auto\; bottom: auto\; color: rgb(68\, 68\, 68)\; line-height: 18.19px\; overflow: visible\; clear: none\; font-family: Tahoma\, Arial\, Verdana\, sans-serif\; font-size: 14px\; vertical-align: baseline\; float: none\; visibility: inherit\; border-collapse: separate\; position: static\; z-index: auto\; table-layout: auto\; direction: inherit\; -ms-word-break: inherit\; -ms-word-wrap: inherit\; -ms-text-overflow: clip\; max-height: none\; max-width: none\; content: normal\; box-sizing: content-box\; empty-cells: show\; font-stretch: inherit\; opacity: 1\; box-shadow: none\; resize: none\; outline-offset: 0px\;">(308) 532-5720</div>\n
LOCATION:
UID:e.590.7194
SEQUENCE:3
DTSTAMP:20260419T191456Z
URL:https://www.nparea.com/events/details/business-after-hours-wild-bills-wings-bowling-01-15-2016-7194
END:VEVENT

END:VCALENDAR
