BEGIN:VCALENDAR
VERSION:2.0
PRODID:-//ChamberMaster//Event Calendar 2.0//EN
METHOD:PUBLISH
X-PUBLISHED-TTL:P3D
REFRESH-INTERVAL:P3D
CALSCALE:GREGORIAN
BEGIN:VEVENT
DTSTART:20131108T143000Z
DTEND:20131108T213000Z
X-MICROSOFT-CDO-ALLDAYEVENT:FALSE
SUMMARY:Candidate Training School
DESCRIPTION:Have you ever considered running for public office?\n\n\n\nThe North Platte Area Chamber & Development Corp. has partnered with the Nebraska Rural Electric Association (NREA) to offer Candidate Training School to help individuals seeking public office to sharpen their political skills and prepare for the campaign trail.\n\n\n\nTopics will include:\n\n\n	\n		Effective Fundraising\n	\n		Message Development\n	\n		Campaign Budgeting\n	\n		Campaign Law\n	\n		Media Relations\n\n\n\nPrint a registration form ($35.00) to mail\n\nor Contact James Dukesherer for additional information at 402-475-4988
X-ALT-DESC;FMTTYPE=text/html:<strong><span style="font-size:14px\;">Have you ever considered running for public office?</span></strong><br />\n<br />\nThe North Platte Area Chamber &amp\; Development Corp. has partnered with the Nebraska Rural Electric Association (NREA) to offer <strong>Candidate Training School&nbsp\;</strong>to help individuals seeking public office to sharpen their political skills and prepare for the campaign trail.<br />\n<br />\n<strong>Topics will include:</strong><br />\n<ul>\n	<li>\n		Effective Fundraising</li>\n	<li>\n		Message Development</li>\n	<li>\n		Campaign Budgeting</li>\n	<li>\n		Campaign Law</li>\n	<li>\n		Media Relations</li>\n</ul>\n<br />\n<a href="http://cloud.chambermaster.com/userfiles/UserFiles/chambers/590/File/CandidateTrainingSchoolRegistrationform2013.pdf">Print a registration form</a> ($35.00) to mail<br />\nor <span style="font-family: Arial\, sans-serif\; white-space: pre-wrap\;">Contact James Dukesherer for additional information at 402-475-4988</span>
LOCATION:North Platte Community College - North Campus
UID:e.590.5267
SEQUENCE:3
DTSTAMP:20260421T190427Z
URL:https://www.nparea.com/events/details/candidate-training-school-11-08-2013-5267
END:VEVENT

END:VCALENDAR
