BEGIN:VCALENDAR
VERSION:2.0
PRODID:-//ChamberMaster//Event Calendar 2.0//EN
METHOD:PUBLISH
X-PUBLISHED-TTL:P3D
REFRESH-INTERVAL:P3D
CALSCALE:GREGORIAN
BEGIN:VEVENT
DTSTART:20151106T000000Z
DTEND:20151106T030000Z
X-MICROSOFT-CDO-ALLDAYEVENT:FALSE
SUMMARY:Chamber Annual Banquet
DESCRIPTION:This year's annual meeting banquet will be November 5th 2015. \n\nIt will be at the Quality Inn & Suites/ Sandhills Convention Center.
X-ALT-DESC;FMTTYPE=text/html:<span style="font-family: Verdana\, Arial\, Helvetica\, sans-serif\; font-size: 10px\; background-color: rgb(255\, 255\, 255)\;">This year&#39\;s annual meeting banquet will be November 5th 2015.&nbsp\;</span><br style="font-family: Verdana\, Arial\, Helvetica\, sans-serif\; font-size: 10px\; background-color: rgb(255\, 255\, 255)\;" />\n<span style="font-family: Verdana\, Arial\, Helvetica\, sans-serif\; font-size: 10px\; background-color: rgb(255\, 255\, 255)\;">It will be at the Quality Inn &amp\; Suites/ Sandhills Convention Center.</span><span style="font-family: Verdana\, Arial\, Helvetica\, sans-serif\; font-size: 10px\; background-color: rgb(255\, 255\, 255)\;">&nbsp\;</span>
LOCATION:
UID:e.590.7375
SEQUENCE:3
DTSTAMP:20260420T010249Z
URL:https://www.nparea.com/events/details/chamber-annual-banquet-11-05-2015-7375
END:VEVENT

END:VCALENDAR
