BEGIN:VCALENDAR
VERSION:2.0
PRODID:-//ChamberMaster//Event Calendar 2.0//EN
METHOD:PUBLISH
X-PUBLISHED-TTL:P3D
REFRESH-INTERVAL:P3D
CALSCALE:GREGORIAN
BEGIN:VEVENT
DTSTART:20120821T180000Z
DTEND:20120821T190000Z
X-MICROSOFT-CDO-ALLDAYEVENT:FALSE
SUMMARY:Check Presentation at NP Area Children's Museum
DESCRIPTION:
X-ALT-DESC;FMTTYPE=text/html:
LOCATION:
UID:e.590.3905
SEQUENCE:3
DTSTAMP:20260422T202950Z
URL:https://www.nparea.com/events/details/check-presentation-at-np-area-children-s-museum-08-21-2012-3905
END:VEVENT

END:VCALENDAR
