BEGIN:VCALENDAR
VERSION:2.0
PRODID:-//ChamberMaster//Event Calendar 2.0//EN
METHOD:PUBLISH
X-PUBLISHED-TTL:P3D
REFRESH-INTERVAL:P3D
CALSCALE:GREGORIAN
BEGIN:VEVENT
DTSTART:20130812T150000Z
DTEND:20130812T050000Z
X-MICROSOFT-CDO-ALLDAYEVENT:FALSE
SUMMARY:Communication is a Contact Sport
DESCRIPTION:Communication is a Contact Sport\n\nSandra Stockall - presenter - UNL Speakers Bureau\n\nTime & Location  MPCC North Campus
X-ALT-DESC;FMTTYPE=text/html:Communication is a Contact Sport<br />\nSandra Stockall - presenter - UNL Speakers Bureau<br />\nTime &amp\; Location&nbsp\; MPCC North Campus
LOCATION:
UID:e.590.5264
SEQUENCE:3
DTSTAMP:20260422T003947Z
URL:https://www.nparea.com/events/details/communication-is-a-contact-sport-08-12-2013-5264
END:VEVENT

END:VCALENDAR
