BEGIN:VCALENDAR
VERSION:2.0
PRODID:-//ChamberMaster//Event Calendar 2.0//EN
METHOD:PUBLISH
X-PUBLISHED-TTL:P3D
REFRESH-INTERVAL:P3D
CALSCALE:GREGORIAN
BEGIN:VEVENT
DTSTART:20151023T170000Z
DTEND:20151023T180000Z
X-MICROSOFT-CDO-ALLDAYEVENT:FALSE
SUMMARY:Community First Bank Ribbon Cutting
DESCRIPTION:Community First Bank Ribbon Cutting
X-ALT-DESC;FMTTYPE=text/html:Community First Bank Ribbon Cutting
LOCATION:410 E. Francis
UID:e.590.7387
SEQUENCE:3
DTSTAMP:20260420T011418Z
URL:https://www.nparea.com/events/details/community-first-bank-ribbon-cutting-10-23-2015-7387
END:VEVENT

END:VCALENDAR
