BEGIN:VCALENDAR
VERSION:2.0
PRODID:-//ChamberMaster//Event Calendar 2.0//EN
METHOD:PUBLISH
X-PUBLISHED-TTL:P3D
REFRESH-INTERVAL:P3D
CALSCALE:GREGORIAN
BEGIN:VEVENT
DTSTART:20130516T200000Z
DTEND:20130517T000000Z
X-MICROSOFT-CDO-ALLDAYEVENT:FALSE
SUMMARY:Customer Appreciation Open House - ALLO
DESCRIPTION:Customer Appreciation Open House at ALLO\n\nfrom 3-7pm.  Ribbon Cutting at 4pm.
X-ALT-DESC;FMTTYPE=text/html:Customer Appreciation Open House at ALLO<br />\nfrom 3-7pm.&nbsp\; Ribbon Cutting&nbsp\;at 4pm.&nbsp\; 
LOCATION:
UID:e.590.5028
SEQUENCE:3
DTSTAMP:20260422T052408Z
URL:https://www.nparea.com/events/details/customer-appreciation-open-house-allo-05-16-2013-5028
END:VEVENT

END:VCALENDAR
