BEGIN:VCALENDAR
VERSION:2.0
PRODID:-//ChamberMaster//Event Calendar 2.0//EN
METHOD:PUBLISH
X-PUBLISHED-TTL:P3D
REFRESH-INTERVAL:P3D
CALSCALE:GREGORIAN
BEGIN:VEVENT
DTSTART:20131105T180000Z
DTEND:20131105T190000Z
X-MICROSOFT-CDO-ALLDAYEVENT:FALSE
SUMMARY:Economic Development Committee Meeting
DESCRIPTION:The North Platte Area Chamber & Development Economic Development Committee meets on the first Tuesday of the month at Noon in the Chamber & Development Board Room.
X-ALT-DESC;FMTTYPE=text/html:The North Platte Area Chamber &amp\; Development Economic Development Committee meets on the first Tuesday of the month at Noon in the Chamber &amp\; Development Board Room.
LOCATION:502 South Dewey North Platte\, NE 69101
UID:e.590.5443
SEQUENCE:3
DTSTAMP:20260421T191852Z
URL:https://www.nparea.com/events/details/economic-development-committee-meeting-11-05-2013-5443
END:VEVENT

END:VCALENDAR
