BEGIN:VCALENDAR
VERSION:2.0
PRODID:-//ChamberMaster//Event Calendar 2.0//EN
METHOD:PUBLISH
X-PUBLISHED-TTL:P3D
REFRESH-INTERVAL:P3D
CALSCALE:GREGORIAN
BEGIN:VEVENT
DTSTART:20141118T000000Z
DTEND:20141118T030000Z
X-MICROSOFT-CDO-ALLDAYEVENT:FALSE
SUMMARY:Farmer/Rancher Banquet
DESCRIPTION:Farmer/Rancher Appreciation Banquet\n\nMonday\, November 17\, 2014\n\nQuality Inn and Suites Convention Center\n\n6pm Social\n\n7pm Dinner and program
X-ALT-DESC;FMTTYPE=text/html:Farmer/Rancher Appreciation Banquet<br />\nMonday\, November 17\, 2014<br />\nQuality Inn and Suites Convention Center<br />\n6pm Social<br />\n7pm Dinner and program
LOCATION:
UID:e.590.5865
SEQUENCE:3
DTSTAMP:20260420T221946Z
URL:https://www.nparea.com/events/details/farmer-rancher-banquet-11-17-2014-5865
END:VEVENT

END:VCALENDAR
