BEGIN:VCALENDAR
VERSION:2.0
PRODID:-//ChamberMaster//Event Calendar 2.0//EN
METHOD:PUBLISH
X-PUBLISHED-TTL:P3D
REFRESH-INTERVAL:P3D
CALSCALE:GREGORIAN
BEGIN:VEVENT
DTSTART:20121031T213000Z
DTEND:20121031T220000Z
X-MICROSOFT-CDO-ALLDAYEVENT:FALSE
SUMMARY:Girl Scouts of Nebraska - New Lakeview Cabin Ribbon Cutting
DESCRIPTION:
X-ALT-DESC;FMTTYPE=text/html:
LOCATION:
UID:e.590.4261
SEQUENCE:3
DTSTAMP:20260422T170306Z
URL:https://www.nparea.com/events/details/girl-scouts-of-nebraska-new-lakeview-cabin-ribbon-cutting-10-31-2012-4261
END:VEVENT

END:VCALENDAR
