BEGIN:VCALENDAR
VERSION:2.0
PRODID:-//ChamberMaster//Event Calendar 2.0//EN
METHOD:PUBLISH
X-PUBLISHED-TTL:P3D
REFRESH-INTERVAL:P3D
CALSCALE:GREGORIAN
BEGIN:VEVENT
DTSTART:20150212T180000Z
DTEND:20150212T190000Z
X-MICROSOFT-CDO-ALLDAYEVENT:FALSE
SUMMARY:GO & RC Bobbi Campbell Insurance Agency Inc.
DESCRIPTION:RC & GO\n\nBobbi Campbell Insurance Agency\, Inc\n\n202 S Chestnut St Ste 1\n\nThursday\, February 12\, 2015\n\nNoon\n\nCome join us!
X-ALT-DESC;FMTTYPE=text/html:RC &amp\; GO<br />\nBobbi Campbell Insurance Agency\, Inc<br />\n202 S Chestnut St Ste 1<br />\nThursday\, February 12\, 2015<br />\nNoon<br />\nCome join us!
LOCATION:
UID:e.590.6134
SEQUENCE:3
DTSTAMP:20260420T163535Z
URL:https://www.nparea.com/events/details/go-rc-bobbi-campbell-insurance-agency-inc-02-12-2015-6134
END:VEVENT

END:VCALENDAR
