BEGIN:VCALENDAR
VERSION:2.0
PRODID:-//ChamberMaster//Event Calendar 2.0//EN
METHOD:PUBLISH
X-PUBLISHED-TTL:P3D
REFRESH-INTERVAL:P3D
CALSCALE:GREGORIAN
BEGIN:VEVENT
DTSTART:20131120T150000Z
DTEND:20131120T160000Z
X-MICROSOFT-CDO-ALLDAYEVENT:FALSE
SUMMARY:GO & RC Dunkin Donuts
DESCRIPTION:Grand Opening & Ribbon Cutting\n\nDunkin Donuts\n\n201 E Platte Oasis Pkwy Ste 1\n\nWednesday\, November 20\, 2013\n\n9am
X-ALT-DESC;FMTTYPE=text/html:Grand Opening &amp\; Ribbon Cutting<br />\nDunkin Donuts<br />\n201 E Platte Oasis Pkwy Ste 1<br />\nWednesday\, November 20\, 2013<br />\n9am<br />\n
LOCATION:
UID:e.590.5722
SEQUENCE:3
DTSTAMP:20260421T190659Z
URL:https://www.nparea.com/events/details/go-rc-dunkin-donuts-11-20-2013-5722
END:VEVENT

END:VCALENDAR
