BEGIN:VCALENDAR
VERSION:2.0
PRODID:-//ChamberMaster//Event Calendar 2.0//EN
METHOD:PUBLISH
X-PUBLISHED-TTL:P3D
REFRESH-INTERVAL:P3D
CALSCALE:GREGORIAN
BEGIN:VEVENT
DTSTART:20131217T230000Z
DTEND:20131218T010000Z
X-MICROSOFT-CDO-ALLDAYEVENT:FALSE
SUMMARY:GO & RC Nebraskaland Natl Bank
DESCRIPTION:Ribbon Cutting will take place at 5:30 pm
X-ALT-DESC;FMTTYPE=text/html:Ribbon Cutting will take place at 5:30 pm<br />\n
LOCATION:
UID:e.590.5721
SEQUENCE:3
DTSTAMP:20260421T174555Z
URL:https://www.nparea.com/events/details/go-rc-nebraskaland-natl-bank-12-17-2013-5721
END:VEVENT

END:VCALENDAR
