BEGIN:VCALENDAR
VERSION:2.0
PRODID:-//ChamberMaster//Event Calendar 2.0//EN
METHOD:PUBLISH
X-PUBLISHED-TTL:P3D
REFRESH-INTERVAL:P3D
CALSCALE:GREGORIAN
BEGIN:VEVENT
DTSTART:20141204T230000Z
DTEND:20141204T230000Z
X-MICROSOFT-CDO-ALLDAYEVENT:FALSE
SUMMARY:GO & RC - River's Edge Cuisine
DESCRIPTION:Grand Opening & Ribbon Cutting\n\nRiver's Edge Cuisine\n\n1008 W 18th St\n\nThursday\, December 4\, 2014\n\n5pm
X-ALT-DESC;FMTTYPE=text/html:Grand Opening &amp\; Ribbon Cutting<br />\nRiver&#39\;s Edge Cuisine<br />\n1008 W 18th St<br />\nThursday\, December 4\, 2014<br />\n5pm<br />\n&nbsp\;
LOCATION:
UID:e.590.5921
SEQUENCE:3
DTSTAMP:20260420T201436Z
URL:https://www.nparea.com/events/details/go-rc-river-s-edge-cuisine-12-04-2014-5921
END:VEVENT

END:VCALENDAR
