BEGIN:VCALENDAR
VERSION:2.0
PRODID:-//ChamberMaster//Event Calendar 2.0//EN
METHOD:PUBLISH
X-PUBLISHED-TTL:P3D
REFRESH-INTERVAL:P3D
CALSCALE:GREGORIAN
BEGIN:VEVENT
DTSTART:20130919T220000Z
DTEND:20130920T000000Z
X-MICROSOFT-CDO-ALLDAYEVENT:FALSE
SUMMARY:GO & RC River Valley Gun Gallery
DESCRIPTION:Grand Opening & Ribbon Cutting\n\nRiver Valley Gun Gallery\n\n409 N Dewey St\n\nSeptember 19\, 2013\n\n5pm\n\nLynn Stockall\, Owner
X-ALT-DESC;FMTTYPE=text/html:Grand Opening &amp\; Ribbon Cutting<br />\nRiver Valley Gun Gallery<br />\n409 N Dewey St<br />\nSeptember 19\, 2013<br />\n5pm<br />\nLynn Stockall\, Owner
LOCATION:
UID:e.590.5436
SEQUENCE:3
DTSTAMP:20260421T224921Z
URL:https://www.nparea.com/events/details/go-rc-river-valley-gun-gallery-09-19-2013-5436
END:VEVENT

END:VCALENDAR
