BEGIN:VCALENDAR
VERSION:2.0
PRODID:-//ChamberMaster//Event Calendar 2.0//EN
METHOD:PUBLISH
X-PUBLISHED-TTL:P3D
REFRESH-INTERVAL:P3D
CALSCALE:GREGORIAN
BEGIN:VEVENT
DTSTART:20140122T140000Z
DTEND:20140122T150000Z
X-MICROSOFT-CDO-ALLDAYEVENT:FALSE
SUMMARY:Governmental Affairs Meeting
DESCRIPTION:Governmental Affairs Committee Meeting\n\nWednesday - 8am-9am\n\nNorth Platte Chamber & Development Board Room\n\n502 S Dewey Street
X-ALT-DESC;FMTTYPE=text/html:Governmental Affairs Committee Meeting<br />\nWednesday - 8am-9am<br />\nNorth Platte Chamber &amp\; Development Board Room<br />\n502 S Dewey Street
LOCATION:
UID:e.590.5873
SEQUENCE:3
DTSTAMP:20260421T170724Z
URL:https://www.nparea.com/events/details/governmental-affairs-meeting-01-22-2014-5873
END:VEVENT

END:VCALENDAR
