BEGIN:VCALENDAR
VERSION:2.0
PRODID:-//ChamberMaster//Event Calendar 2.0//EN
METHOD:PUBLISH
X-PUBLISHED-TTL:P3D
REFRESH-INTERVAL:P3D
CALSCALE:GREGORIAN
BEGIN:VEVENT
DTSTART:20151107T170000Z
DTEND:20151107T180000Z
X-MICROSOFT-CDO-ALLDAYEVENT:FALSE
SUMMARY:Grand Opening/Ribbon Cutting - NorthPlatte Elks Lodge #985/La Pachanga
DESCRIPTION:Grand Opening & Ribbon Cutting\n\nNorth Platte Elks Lodge/La Pachanga\n\nSaturday\, November 7\, 2015\n\n502 Easy Street\n\n11:00am\n\n11:00 am
X-ALT-DESC;FMTTYPE=text/html:Grand Opening &amp\; Ribbon Cutting<br />\nNorth Platte Elks Lodge/La Pachanga<br />\nSaturday\, November 7\, 2015<br />\n502 Easy Street<br />\n11:00am<br />\n11:00 am<br />\n&nbsp\;
LOCATION:
UID:e.590.7523
SEQUENCE:3
DTSTAMP:20260419T231748Z
URL:https://www.nparea.com/events/details/grand-opening-ribbon-cutting-northplatte-elks-lodge-985-la-pachanga-11-07-2015-7523
END:VEVENT

END:VCALENDAR
