BEGIN:VCALENDAR
VERSION:2.0
PRODID:-//ChamberMaster//Event Calendar 2.0//EN
METHOD:PUBLISH
X-PUBLISHED-TTL:P3D
REFRESH-INTERVAL:P3D
CALSCALE:GREGORIAN
BEGIN:VEVENT
DTSTART:20120824T160000Z
DTEND:20120824T180000Z
X-MICROSOFT-CDO-ALLDAYEVENT:FALSE
SUMMARY:Grand Re-Opening at Express AVL 11am-1pm with a Ribbon Cutting at noon
DESCRIPTION:
X-ALT-DESC;FMTTYPE=text/html:
LOCATION:
UID:e.590.3908
SEQUENCE:3
DTSTAMP:20260422T203608Z
URL:https://www.nparea.com/events/details/grand-re-opening-at-express-avl-11am-1pm-with-a-ribbon-cutting-at-noon-08-24-2012-3908
END:VEVENT

END:VCALENDAR
