BEGIN:VCALENDAR
VERSION:2.0
PRODID:-//ChamberMaster//Event Calendar 2.0//EN
METHOD:PUBLISH
X-PUBLISHED-TTL:P3D
REFRESH-INTERVAL:P3D
CALSCALE:GREGORIAN
BEGIN:VEVENT
DTSTART:20150823T180000Z
DTEND:20150823T200000Z
X-MICROSOFT-CDO-ALLDAYEVENT:FALSE
SUMMARY:Great Plains Health Community Open House
DESCRIPTION:Great Plains Health \n\nNew Tower\n\nCommunity Open House\n\n1-3 pm
X-ALT-DESC;FMTTYPE=text/html:Great Plains Health&nbsp\;<br />\nNew Tower<br />\nCommunity Open House<br />\n1-3 pm
LOCATION:
UID:e.590.7373
SEQUENCE:3
DTSTAMP:20260420T053428Z
URL:https://www.nparea.com/events/details/great-plains-health-community-open-house-08-23-2015-7373
END:VEVENT

END:VCALENDAR
