BEGIN:VCALENDAR
VERSION:2.0
PRODID:-//ChamberMaster//Event Calendar 2.0//EN
METHOD:PUBLISH
X-PUBLISHED-TTL:P3D
REFRESH-INTERVAL:P3D
CALSCALE:GREGORIAN
BEGIN:VEVENT
DTSTART:20120516T160000Z
DTEND:20120516T170000Z
X-MICROSOFT-CDO-ALLDAYEVENT:FALSE
SUMMARY:Ground Breaking Modern Muffler/Oil Exchange/Car Wash
DESCRIPTION:
X-ALT-DESC;FMTTYPE=text/html:
LOCATION:1402 South Jeffers Street
UID:e.590.3557
SEQUENCE:3
DTSTAMP:20260423T021809Z
URL:https://www.nparea.com/events/details/ground-breaking-modern-muffler-oil-exchange-car-wash-05-16-2012-3557
END:VEVENT

END:VCALENDAR
