BEGIN:VCALENDAR
VERSION:2.0
PRODID:-//ChamberMaster//Event Calendar 2.0//EN
METHOD:PUBLISH
X-PUBLISHED-TTL:P3D
REFRESH-INTERVAL:P3D
CALSCALE:GREGORIAN
BEGIN:VEVENT
DTSTART:20150220T220000Z
DTEND:20150221T020000Z
X-MICROSOFT-CDO-ALLDAYEVENT:FALSE
SUMMARY:Home Sweet Home Show
DESCRIPTION:
X-ALT-DESC;FMTTYPE=text/html:
LOCATION:Quality Inn 2102 S Jeffers St. North Platte NE 69101
UID:e.590.6132
SEQUENCE:3
DTSTAMP:20260420T182007Z
URL:https://www.nparea.com/events/details/home-sweet-home-show-02-20-2015-6132
END:VEVENT

END:VCALENDAR
